BEGIN:VCALENDAR
VERSION:2.0
PRODID:-//Missouri Smallflows - ECPv6.15.20//NONSGML v1.0//EN
CALSCALE:GREGORIAN
METHOD:PUBLISH
X-WR-CALNAME:Missouri Smallflows
X-ORIGINAL-URL:https://mosmallflows.org
X-WR-CALDESC:Events for Missouri Smallflows
REFRESH-INTERVAL;VALUE=DURATION:PT1H
X-Robots-Tag:noindex
X-PUBLISHED-TTL:PT1H
BEGIN:VTIMEZONE
TZID:UTC
BEGIN:STANDARD
TZOFFSETFROM:+0000
TZOFFSETTO:+0000
TZNAME:UTC
DTSTART:20250101T000000
END:STANDARD
END:VTIMEZONE
BEGIN:VEVENT
DTSTART;TZID=UTC:20260413T083000
DTEND;TZID=UTC:20260413T140000
DTSTAMP:20260421T143004
CREATED:20260106T182608Z
LAST-MODIFIED:20260216T161451Z
UID:1068-1776069000-1776088800@mosmallflows.org
SUMMARY:Basic Soils & How to Read a Soils Report
DESCRIPTION:Half Day Class: 8:30 AM – 2:00 PM\nDHSS General CEUs: 5\nSelect: Basic: 5\, Advanced: 5\, Inspectors: 0\, Onsite Soil Evaluators: 5\, and Perc Testers: 2\nDNR Wastewater CEU’s:0\nMember Price: $150\nNon-member price: $235 \nRegister Now
URL:https://mosmallflows.org/event/basic-soils-how-to-read-a-soils-report-4/
LOCATION:Ganey Engineering\, 3405 Old Hwy M\, Imperial\, MO\, 63052\, United States
CATEGORIES:Seminar Classes
END:VEVENT
END:VCALENDAR