BEGIN:VCALENDAR
VERSION:2.0
PRODID:-//Missouri Smallflows - ECPv6.15.20//NONSGML v1.0//EN
CALSCALE:GREGORIAN
METHOD:PUBLISH
X-ORIGINAL-URL:https://mosmallflows.org
X-WR-CALDESC:Events for Missouri Smallflows
REFRESH-INTERVAL;VALUE=DURATION:PT1H
X-Robots-Tag:noindex
X-PUBLISHED-TTL:PT1H
BEGIN:VTIMEZONE
TZID:UTC
BEGIN:STANDARD
TZOFFSETFROM:+0000
TZOFFSETTO:+0000
TZNAME:UTC
DTSTART:20250101T000000
END:STANDARD
END:VTIMEZONE
BEGIN:VEVENT
DTSTART;TZID=UTC:20260513T180000
DTEND;TZID=UTC:20260513T190000
DTSTAMP:20260421T161042
CREATED:20260410T213638Z
LAST-MODIFIED:20260410T213709Z
UID:1118-1778695200-1778698800@mosmallflows.org
SUMMARY:Free Business Webinar brought to you by Dig In Digital
DESCRIPTION:Why Your Phone Isn’t Ringing\nand How to Fix It Fast \nIf your phone isn’t ringing like it used to\, there’s a reason\, and it is usually not what you think. In this session\, we will break down the most common causes of low call volume for septic and wastewater businesses and show you how to identify what is holding you back. \nYou will learn how customers are actually finding your business online and what influences their decision to call. We will also walk through a simple\, practical checklist you can use to start generating more calls within days\, not months. \nRegister Here \n \n 
URL:https://mosmallflows.org/event/free-business-webinar-brought-to-you-by-dig-in-digital/
CATEGORIES:Seminar Classes
END:VEVENT
END:VCALENDAR