BEGIN:VCALENDAR
VERSION:2.0
PRODID:-//Missouri Smallflows - ECPv6.15.20//NONSGML v1.0//EN
CALSCALE:GREGORIAN
METHOD:PUBLISH
X-ORIGINAL-URL:https://mosmallflows.org
X-WR-CALDESC:Events for Missouri Smallflows
REFRESH-INTERVAL;VALUE=DURATION:PT1H
X-Robots-Tag:noindex
X-PUBLISHED-TTL:PT1H
BEGIN:VTIMEZONE
TZID:UTC
BEGIN:STANDARD
TZOFFSETFROM:+0000
TZOFFSETTO:+0000
TZNAME:UTC
DTSTART:20250101T000000
END:STANDARD
END:VTIMEZONE
BEGIN:VEVENT
DTSTART;TZID=UTC:20260304T083000
DTEND;TZID=UTC:20260304T133000
DTSTAMP:20260425T154858
CREATED:20251124T214809Z
LAST-MODIFIED:20260216T161020Z
UID:1017-1772613000-1772631000@mosmallflows.org
SUMMARY:Onsite Pumps\, Panels & Electrical
DESCRIPTION:Half Day Class: 8:30 AM – 1:30 PM\nDHSS General CEUs: 4.0\nSelect: Basic: 4\, Advanced: 4\, Inspectors: 4\, Onsite Soil Evaluators: 0\, and Perc Testers: 0\nDNR Wastewater CEUs: 4.0\nMember Price: $150\nNon-member price: $235 \n \nRegister Now
URL:https://mosmallflows.org/event/onsite-pumps-panels-electrical-3/
LOCATION:Johnson County Community Health Services\, 723 PCA Road #7913\, Warrensburg\, MO\, 64093\, United States
CATEGORIES:Seminar Classes
END:VEVENT
BEGIN:VEVENT
DTSTART;TZID=UTC:20260305T083000
DTEND;TZID=UTC:20260305T163000
DTSTAMP:20260425T154858
CREATED:20251124T215004Z
LAST-MODIFIED:20260216T161132Z
UID:1019-1772699400-1772728200@mosmallflows.org
SUMMARY:Aerated Treatment Units
DESCRIPTION:Full Day Class: 8:30 AM – 4:30 PM\nDHSS General CEUs: 7\nSelect: Basic: 7\, Advanced: 7\, Inspectors: 5\, Onsite Soil Evaluators: 0\, and Perc Testers: 0\nDNR Wastewater CEUs: 6.0\nMember Price: $150\nNon-member price: $235 \nRegister Now
URL:https://mosmallflows.org/event/aerated-treatment-units-2/
LOCATION:Johnson County Community Health Services\, 723 PCA Road #7913\, Warrensburg\, MO\, 64093\, United States
CATEGORIES:Seminar Classes
END:VEVENT
BEGIN:VEVENT
DTSTART;TZID=UTC:20260324T080000
DTEND;TZID=UTC:20260325T170000
DTSTAMP:20260425T154858
CREATED:20260124T172101Z
LAST-MODIFIED:20260309T173149Z
UID:1075-1774339200-1774458000@mosmallflows.org
SUMMARY:Operations & Maintenance Training - Free Classes
DESCRIPTION:Class is full.  Click on this link to join the waitlist.  \nOnly register for March 24-25 for CEUs! \nDHSS CEUs: General: 15.0; Select: Basic: 5.5\, Advanced: 11\, Inspector: 5 \nDNR CEUs: Day 1 = 7.5 Wastewater\, Day 2 = 7.5 Wastewater \nThe goal of this training course is workforce development related to system management including the operation\, maintenance\, monitoring\, and troubleshooting of decentralized systems. The course describes fundamental concepts of wastewater characteristics and treatment processes and illustrates the importance of periodic operation and maintenance to ensure longevity and optimal performance. \nMidwest Assistance Program\, Inc. (MAP) is hosting an in-person no-cost training for septic system professionals. This training is presented by the National Onsite Wastewater Recycling Association (NOWRA) with the aim of establishing uniform standards of practice that service providers can employ to assess and report upon the status of system source\, collection\, treatment and dispersal components as part of system management. \nFlyer for Information.
URL:https://mosmallflows.org/event/operations-maintenance-training-free-classes/
LOCATION:Oasis Hotel & Convention Center\, 2546 N Glenstone Ave\, Springfield\, MO\, 65803\, United States
CATEGORIES:Seminar Classes
END:VEVENT
END:VCALENDAR