BEGIN:VCALENDAR
VERSION:2.0
PRODID:-//Missouri Smallflows - ECPv6.15.20//NONSGML v1.0//EN
CALSCALE:GREGORIAN
METHOD:PUBLISH
X-ORIGINAL-URL:https://mosmallflows.org
X-WR-CALDESC:Events for Missouri Smallflows
REFRESH-INTERVAL;VALUE=DURATION:PT1H
X-Robots-Tag:noindex
X-PUBLISHED-TTL:PT1H
BEGIN:VTIMEZONE
TZID:UTC
BEGIN:STANDARD
TZOFFSETFROM:+0000
TZOFFSETTO:+0000
TZNAME:UTC
DTSTART:20250101T000000
END:STANDARD
END:VTIMEZONE
BEGIN:VEVENT
DTSTART;TZID=UTC:20260806T083000
DTEND;TZID=UTC:20260806T163000
DTSTAMP:20260425T205836
CREATED:20260216T173845Z
LAST-MODIFIED:20260304T161354Z
UID:1097-1786005000-1786033800@mosmallflows.org
SUMMARY:Troubleshooting Onsite Systems
DESCRIPTION:Full Day Class: 8:30 AM – 4:30 PM\nDHSS General CEUs: 6.5\nSelect: Basic: 4.0\, Advanced: 6.5\, Inspectors: 6.5\, Onsite Soil Evaluators: 0\, and Perc Testers: 0\nDNR Wastewater CEUs: 6.5\nMember Price: $150\nNon-member price: $235 \nRegister Now
URL:https://mosmallflows.org/event/troubleshooting-onsite-systems-4/
LOCATION:First Freewill Baptist Church\, 1814 CO Road 6460\, West Plains\, MO\, 65775\, United States
CATEGORIES:Seminar Classes
END:VEVENT
BEGIN:VEVENT
DTSTART;TZID=UTC:20260807T083000
DTEND;TZID=UTC:20260807T163000
DTSTAMP:20260425T205836
CREATED:20260216T174737Z
LAST-MODIFIED:20260216T174737Z
UID:1098-1786091400-1786120200@mosmallflows.org
SUMMARY:Earthen Structures & Above-Ground Dispersal Methods for OWTS
DESCRIPTION:Full Day Class: 8:30 AM – 4:30 PM\nDHSS General CEUs: 6.5\nSelect: Basic: 3.5\, Advanced: 4\, Inspectors: 3\, Onsite Soil Evaluators: 1.5\, and Perc Testers: 0\nDNR Wastewater CEUs: 6.5\nMember Price: $150\nNon-member price: $235 \nRegister Now
URL:https://mosmallflows.org/event/earthen-structures-above-ground-dispersal-methods-for-owts-3/
LOCATION:First Freewill Baptist Church\, 1814 CO Road 6460\, West Plains\, MO\, 65775\, United States
CATEGORIES:Seminar Classes
END:VEVENT
BEGIN:VEVENT
DTSTART;TZID=UTC:20260820T083000
DTEND;TZID=UTC:20260820T163000
DTSTAMP:20260425T205836
CREATED:20260216T175026Z
LAST-MODIFIED:20260216T175026Z
UID:1099-1787214600-1787243400@mosmallflows.org
SUMMARY:Inspecting Tanks\, Lagoons & LPP Systems
DESCRIPTION:Full Day Class: 8:30 AM – 4:30 PM\nDHSS General CEUs: 5\nSelect: Basic: 0\, Advanced: 0\, Inspectors: 5\, Onsite Soil Evaluators: 0\, and Perc Testers: 0\nDNR Wastewater CEUs: 5.5\nMember Price: $150\nNon-member price: $235 \nRegister Now
URL:https://mosmallflows.org/event/inspecting-tanks-lagoons-lpp-systems-2/
LOCATION:Clay County Health Department\, 800 Haines\, Liberty\, MO\, 64068\, United States
CATEGORIES:Seminar Classes
END:VEVENT
BEGIN:VEVENT
DTSTART;TZID=UTC:20260821T083000
DTEND;TZID=UTC:20260821T163000
DTSTAMP:20260425T205836
CREATED:20260217T143237Z
LAST-MODIFIED:20260217T143237Z
UID:1100-1787301000-1787329800@mosmallflows.org
SUMMARY:Aerated Treatment Units
DESCRIPTION:Full Day Class: 8:30 AM – 4:30 PM\nDHSS General CEUs: 7\nSelect: Basic: 7\, Advanced: 7\, Inspectors: 5\, Onsite Soil Evaluators: 0\, and Perc Testers: 0\nDNR Wastewater CEUs: 6.0\nMember Price: $150\nNon-member price: $235 \nRegister Now
URL:https://mosmallflows.org/event/aerated-treatment-units-4/
LOCATION:Clay County Health Department\, 800 Haines\, Liberty\, MO\, 64068\, United States
CATEGORIES:Seminar Classes
END:VEVENT
END:VCALENDAR