BEGIN:VCALENDAR
VERSION:2.0
PRODID:-//Missouri Smallflows - ECPv6.15.20//NONSGML v1.0//EN
CALSCALE:GREGORIAN
METHOD:PUBLISH
X-WR-CALNAME:Missouri Smallflows
X-ORIGINAL-URL:https://mosmallflows.org
X-WR-CALDESC:Events for Missouri Smallflows
REFRESH-INTERVAL;VALUE=DURATION:PT1H
X-Robots-Tag:noindex
X-PUBLISHED-TTL:PT1H
BEGIN:VTIMEZONE
TZID:UTC
BEGIN:STANDARD
TZOFFSETFROM:+0000
TZOFFSETTO:+0000
TZNAME:UTC
DTSTART:20250101T000000
END:STANDARD
END:VTIMEZONE
BEGIN:VEVENT
DTSTART;TZID=UTC:20260506T083000
DTEND;TZID=UTC:20260506T163000
DTSTAMP:20260421T141748
CREATED:20251124T222826Z
LAST-MODIFIED:20260216T161537Z
UID:1022-1778056200-1778085000@mosmallflows.org
SUMMARY:Types of Drainfields & Water Management
DESCRIPTION:Full Day Class: 8:30 AM – 4:30 PM\nDHSS General CEUs: 7.5\nSelect: Basic: 5.5\, Advanced: 6\, Inspectors: 0\, Onsite Soil Evaluators: 1\, and Perc Testers: 0\nDNR Wastewater CEUs: 6.5\nMember Price: $150\nNon-member price: $235 \nRegister Now
URL:https://mosmallflows.org/event/types-of-drainfields-water-management-2/
LOCATION:Turkey Creek Wastewater Plant\, 3457 W Eddy Lane\, Joplin\, MO\, 64801\, United States
CATEGORIES:Seminar Classes
END:VEVENT
END:VCALENDAR