BEGIN:VCALENDAR
VERSION:2.0
PRODID:-//Missouri Smallflows - ECPv6.15.20//NONSGML v1.0//EN
CALSCALE:GREGORIAN
METHOD:PUBLISH
X-ORIGINAL-URL:https://mosmallflows.org
X-WR-CALDESC:Events for Missouri Smallflows
REFRESH-INTERVAL;VALUE=DURATION:PT1H
X-Robots-Tag:noindex
X-PUBLISHED-TTL:PT1H
BEGIN:VTIMEZONE
TZID:UTC
BEGIN:STANDARD
TZOFFSETFROM:+0000
TZOFFSETTO:+0000
TZNAME:UTC
DTSTART:20250101T000000
END:STANDARD
END:VTIMEZONE
BEGIN:VEVENT
DTSTART;TZID=UTC:20260625T083000
DTEND;TZID=UTC:20260625T133000
DTSTAMP:20260425T191622
CREATED:20260216T163108Z
LAST-MODIFIED:20260216T163710Z
UID:1088-1782376200-1782394200@mosmallflows.org
SUMMARY:Wastewater Pathogens
DESCRIPTION:Half Day Class: 8:30 AM – 1:30 PM\nDHSS General CEUs: 4\nSelect: Basic: 1\, Advanced: 1\, Inspectors: 1\, Onsite Soil Evaluators: 0\, and Perc Testers: 0\nDNR Wastewater CEUs: 4.0\nMember Price: $150\nNon-member price: $235 \nRegister Now
URL:https://mosmallflows.org/event/wastewater-pathogens-2/
LOCATION:Springfield DNR\, 2040 W Woodland\, Springfield\, MO\, 65807\, United States
CATEGORIES:Seminar Classes
END:VEVENT
END:VCALENDAR