BEGIN:VCALENDAR
VERSION:2.0
PRODID:-//Missouri Smallflows - ECPv6.15.20//NONSGML v1.0//EN
CALSCALE:GREGORIAN
METHOD:PUBLISH
X-WR-CALNAME:Missouri Smallflows
X-ORIGINAL-URL:https://mosmallflows.org
X-WR-CALDESC:Events for Missouri Smallflows
REFRESH-INTERVAL;VALUE=DURATION:PT1H
X-Robots-Tag:noindex
X-PUBLISHED-TTL:PT1H
BEGIN:VTIMEZONE
TZID:UTC
BEGIN:STANDARD
TZOFFSETFROM:+0000
TZOFFSETTO:+0000
TZNAME:UTC
DTSTART:20240101T000000
END:STANDARD
END:VTIMEZONE
BEGIN:VEVENT
DTSTART;TZID=UTC:20251119T083000
DTEND;TZID=UTC:20251119T163000
DTSTAMP:20260421T210103
CREATED:20250828T190313Z
LAST-MODIFIED:20250828T191142Z
UID:902-1763541000-1763569800@mosmallflows.org
SUMMARY:Drip Irrigation
DESCRIPTION:Full Day Class: 8:30 AM – 4:30 PM\nDHSS General CEUs: 6.5\nSelect: Basic: 0\, Advanced: 6.5\, Inspectors: 6.25\, Onsite Soil Evaluators: 4.0\, and Perc Testers: 0\nDNR Wastewater CEUs: 6.0\nMember Price: $150\nNon-member price: $235 \nRegister Now
URL:https://mosmallflows.org/event/drip-irrigation-2/
LOCATION:Turkey Creek Wastewater Plant\, 3457 W Eddy Lane\, Joplin\, MO\, 64801\, United States
CATEGORIES:Seminar Classes
END:VEVENT
BEGIN:VEVENT
DTSTART;TZID=UTC:20251118T083000
DTEND;TZID=UTC:20251118T163000
DTSTAMP:20260421T210103
CREATED:20250828T190140Z
LAST-MODIFIED:20250828T191129Z
UID:901-1763454600-1763483400@mosmallflows.org
SUMMARY:Aerated Treatment Units
DESCRIPTION:Full Day Class: 8:30 AM – 4:30 PM\nDHSS General CEUs: 7\nSelect CEUs: Basic Installers: 7\, Advanced Installers: 7\, Inspectors and Evaluators: 5\, Onsite Soil Evaluators: 0\nDNR Wastewater CEUs: 6\nMember Price: $150\nNon-member price: $235 \nRegister Now
URL:https://mosmallflows.org/event/aerated-treatment-units/
LOCATION:Turkey Creek Wastewater Plant\, 3457 W Eddy Lane\, Joplin\, MO\, 64801\, United States
CATEGORIES:Seminar Classes
END:VEVENT
BEGIN:VEVENT
DTSTART;TZID=UTC:20251106T083000
DTEND;TZID=UTC:20251106T163000
DTSTAMP:20260421T210103
CREATED:20250828T185748Z
LAST-MODIFIED:20250828T191118Z
UID:900-1762417800-1762446600@mosmallflows.org
SUMMARY:Troubleshooting Onsite Systems
DESCRIPTION:Full Day Class: 8:30 AM – 4:30 PM\nDHSS General CEUs: 6\nSelect CEUs: Basic Installers: 6\, Advanced Installers: 6\, Inspectors and Evaluators: 6\, Onsite Soil Evaluators: 0\nDNR Wastewater CEUs: 6\nMember Price: $150\nNon-member price: $235 \nRegister Now
URL:https://mosmallflows.org/event/troubleshooting-onsite-systems/
LOCATION:St. Charles Administration Building\, 201 N 2nd St #429\, St. Charles\, MO\, 63301\, United States
CATEGORIES:Seminar Classes
END:VEVENT
BEGIN:VEVENT
DTSTART;TZID=UTC:20251105T083000
DTEND;TZID=UTC:20251105T160000
DTSTAMP:20260421T210103
CREATED:20250828T185441Z
LAST-MODIFIED:20251029T203040Z
UID:899-1762331400-1762358400@mosmallflows.org
SUMMARY:Inspecting Tanks\, Lagoons & LPP - Cancelled
DESCRIPTION:Cancelled due to insufficient registrations. \nFull Day Class: 8:30 AM – 4:00 PM\nDHSS General CEUs: 5.0\nSelect CEUs: Basic: 0\, Advanced: 0\, Inspector: 5\, OSE: 0\, Perc Tester: 0\nDNR Wastewater CEUs: 5.5\nMember price: $150\nNon-member price: $235
URL:https://mosmallflows.org/event/inspecting-tanks-lagoons-lpp-2/
LOCATION:St. Charles Administration Building\, 201 N 2nd St #429\, St. Charles\, MO\, 63301\, United States
CATEGORIES:Seminar Classes
END:VEVENT
BEGIN:VEVENT
DTSTART;TZID=UTC:20251023T083000
DTEND;TZID=UTC:20251023T160000
DTSTAMP:20260421T210103
CREATED:20250828T184928Z
LAST-MODIFIED:20250828T191039Z
UID:897-1761208200-1761235200@mosmallflows.org
SUMMARY:What's in my yard?
DESCRIPTION:Full Day class: 8:30 AM – 4:00 PM\nDHSS General CEUs: 6.5\nSelect: Basic: 5.5\, Advanced: 5.5\, Inspector: 1.5\, OSE: 1.0\nMember price: $150\nNon-member price: $235 \nRegister Now
URL:https://mosmallflows.org/event/whats-in-my-yard/
LOCATION:SI Precast (Wilbert Funeral Services)\, 1501 S Empire Ave\, Springfield\, MO\, 65802\, United States
CATEGORIES:Seminar Classes
END:VEVENT
BEGIN:VEVENT
DTSTART;TZID=UTC:20251022T083000
DTEND;TZID=UTC:20251022T163000
DTSTAMP:20260421T210103
CREATED:20250828T184728Z
LAST-MODIFIED:20250828T191016Z
UID:896-1761121800-1761150600@mosmallflows.org
SUMMARY:Drip Irrigation Seminar
DESCRIPTION:Full Day Class: 8:30 AM – 4:30 PM\nDHSS General CEUs: 6.5\nSelect: Basic: 0\, Advanced: 6.5\, Inspectors: 6.25\, Onsite Soil Evaluators: 4.0\, and Perc Testers: 0\nDNR Wastewater CEUs: 6.0\nMember Price: $150\nNon-member price: $235 \nRegister Now
URL:https://mosmallflows.org/event/drip-irrigation-seminar/
LOCATION:SI Precast (Wilbert Funeral Services)\, 1501 S Empire Ave\, Springfield\, MO\, 65802\, United States
CATEGORIES:Seminar Classes
END:VEVENT
BEGIN:VEVENT
DTSTART;TZID=UTC:20251013T083000
DTEND;TZID=UTC:20251013T163000
DTSTAMP:20260421T210103
CREATED:20250828T185216Z
LAST-MODIFIED:20250828T190927Z
UID:898-1760344200-1760373000@mosmallflows.org
SUMMARY:MSO/MAPSS Soils Seminar 2025
DESCRIPTION:Location: Lawson\, Dykes Construction\nFull Day Class: 8:30 AM – 3:30 PM\nLunch is provided. \nDHSS General CEUs: 6.0\nSelect CEUs: Basic: 6.0\, Advanced: 6.0\, Inspectors: 0\, OSE: 6 \nMember price: $150\nNon-member price: $235 \nThis class is made possible by partnership with MAPSS. We look forward to having you at this class to look deeper into soils in NW Missouri. This course will include field work with soil pits. \nRegister early as seating is limited! \nRegister Now
URL:https://mosmallflows.org/event/mso-mapss-soils-seminar-2025/
LOCATION:MO
CATEGORIES:Seminar Classes
END:VEVENT
BEGIN:VEVENT
DTSTART;TZID=UTC:20251009T083000
DTEND;TZID=UTC:20251009T140000
DTSTAMP:20260421T210103
CREATED:20250714T184311Z
LAST-MODIFIED:20251001T131012Z
UID:647-1759998600-1760018400@mosmallflows.org
SUMMARY:Onsite Pumps\, Panels & Electrical - CANCELLED
DESCRIPTION:CANCELLED due to insufficient registrations. \nLocation: Cape Girardeau\, Cape Girardeau Health\nDepartment \nOnsite Pumps\, Panels & Electrical\nDate: October 9\, 2025\nHalf day class: 8:30 AM – 2:00 PM\nDHSS General CEUs: 4.0\nSelect CEUs: Basic: 3.5\, Advanced: 3.5\, Inspector:\n3.5\, OSE: 0\nDNR Wastewater CEUs: 4.0\nMember price: $150\nNon-member price: $235
URL:https://mosmallflows.org/event/onsite-pumps-panels-electrical-2/
LOCATION:Cape Girardeau Health Department\, 1121 Linden St.\, Cape Girardeau\, MO\, 63703\, United States
CATEGORIES:Seminar Classes
END:VEVENT
BEGIN:VEVENT
DTSTART;TZID=UTC:20251008T083000
DTEND;TZID=UTC:20251008T163000
DTSTAMP:20260421T210103
CREATED:20250714T184240Z
LAST-MODIFIED:20251001T130916Z
UID:646-1759912200-1759941000@mosmallflows.org
SUMMARY:Earthen Structures & Above-Ground Dispersal - CANCELLED
DESCRIPTION:Cancelled due to insufficient registrations.\nLocation: Cape Girardeau\, Cape Girardeau Health\nDept. \nEarthen Structures & Above-Ground Dispersal\nMethods for OWTS\nDate: October 8\, 2025\nFull Day Class: 8:30 AM – 4:30 PM\nDHSS General CEUs: 6.5\nSelect CEUs: Basic Installers: 3.5\, Advanced\nInstallers: 4.0\, Inspectors and Evaluators: 3\, Onsite\nSoil Evaluators: 1.5\nDNR Wastewater CEUs: 6.5\nMember Price: $150\nNon-member price: $235
URL:https://mosmallflows.org/event/earthen-structures-above-ground-dispersal-2/
LOCATION:Cape Girardeau Health Department\, 1121 Linden St.\, Cape Girardeau\, MO\, 63703\, United States
CATEGORIES:Seminar Classes
END:VEVENT
BEGIN:VEVENT
DTSTART;TZID=UTC:20250925T083000
DTEND;TZID=UTC:20250925T160000
DTSTAMP:20260421T210103
CREATED:20250714T184151Z
LAST-MODIFIED:20250918T130110Z
UID:645-1758789000-1758816000@mosmallflows.org
SUMMARY:Types of Drainfields & Water Management - Cancelled.
DESCRIPTION:Cancelled due to insufficient registrations. \nLocation: Jefferson City\, Cole County Health\nDepartment \nTypes of Drainfields & Water Management\nDate: September 25\, 2025\nFull day class: 8:30 AM – 4:00 PM\nDHSS General CEUs: 7.5\nSelect CEUs: Basic: 5.5\, Advanced: 6.0\, Inspector: 0\,\nOSE: 1.0\nDNR Wastewater CEUs: 6.5\nMember price: $150\nNon-member price: $235
URL:https://mosmallflows.org/event/types-of-drainfields-water-management/
LOCATION:Cole County Health Department\, 3400 W Truman Blvd.\, Jefferson City\, 65109\, United States
CATEGORIES:Seminar Classes
END:VEVENT
BEGIN:VEVENT
DTSTART;TZID=UTC:20250924T083000
DTEND;TZID=UTC:20250924T140000
DTSTAMP:20260421T210103
CREATED:20250714T184110Z
LAST-MODIFIED:20250918T130023Z
UID:644-1758702600-1758722400@mosmallflows.org
SUMMARY:Onsite Pumps\, Panels & Electrical - Cancelled
DESCRIPTION:Cancelled Due to insufficient registrations \nLocation: Jefferson City\, Cole County Health\nDepartment \nOnsite Pumps\, Panels & Electrical\nDate: September 24\, 2025\nHalf day class: 8:30 AM – 2:00 PM\nDHSS General CEUs: 4.0\nSelect CEUs: Basic: 4.0\, Advanced: 4.0\, Inspector:\n4.0\, OSE: 0\nDNR Wastewater CEUs: 4.0\nMember price: $150\nNon-member price: $235
URL:https://mosmallflows.org/event/onsite-pumps-panels-electrical/
LOCATION:Cole County Health Department\, 3400 W Truman Blvd.\, Jefferson City\, 65109\, United States
CATEGORIES:Seminar Classes
END:VEVENT
BEGIN:VEVENT
DTSTART;TZID=UTC:20250911T083000
DTEND;TZID=UTC:20250911T160000
DTSTAMP:20260421T210103
CREATED:20250714T184035Z
LAST-MODIFIED:20250903T184050Z
UID:643-1757579400-1757606400@mosmallflows.org
SUMMARY:Inspecting Tanks\, Lagoons & LPP - Cancelled due to insufficient registrations.
DESCRIPTION:This class has been cancelled. \nLocation: Cassville\, Community Public Works\nFacility\nDate: September 11\, 2025\nFull Day Class: 8:30 AM – 4:00 PM\nDHSS General CEUs: 5.0\nSelect CEUs: Basic: 0\, Advanced: 0\, Inspector: 5\,\nOSE: 0\, Perc Tester: 0\nDNR Wastewater CEUs: 5.5\nMember price: $150\nNon-member price: $235
URL:https://mosmallflows.org/event/inspecting-tanks-lagoons-lpp/
LOCATION:Community Public Works Facility\, 200 Industrial Pk Dr.\, Cassville\, MO\, 65625\, United States
CATEGORIES:Seminar Classes
END:VEVENT
BEGIN:VEVENT
DTSTART;TZID=UTC:20250910T083000
DTEND;TZID=UTC:20250910T163000
DTSTAMP:20260421T210103
CREATED:20250714T184003Z
LAST-MODIFIED:20250903T183954Z
UID:642-1757493000-1757521800@mosmallflows.org
SUMMARY:Earthen Structures & Above-Ground Dispersal - Cancelled due to insufficient registrations
DESCRIPTION:This class has been cancelled. \nLocation: Cassville\, Community Public Works\nFacility \nEarthen Structures & Above-Ground Dispersal\nMethods for OWTS\nDate: September 10\, 2025\nFull Day Class: 8:30 AM – 4:30 PM\nDHSS General CEUs: 6.5\nSelect CEUs: Basic Installers: 3.5\, Advanced\nInstallers: 4.0\, Inspectors and Evaluators: 3\, Onsite\nSoil Evaluators: 1.5\nDNR Wastewater CEUs: 6.5\nMember Price: $150\nNon-member price: $235
URL:https://mosmallflows.org/event/earthen-structures-above-ground-dispersal/
LOCATION:Community Public Works Facility\, 200 Industrial Pk Dr.\, Cassville\, MO\, 65625\, United States
CATEGORIES:Seminar Classes
END:VEVENT
BEGIN:VEVENT
DTSTART;TZID=UTC:20250903T083000
DTEND;TZID=UTC:20250903T140000
DTSTAMP:20260421T210103
CREATED:20250714T183921Z
LAST-MODIFIED:20250826T165416Z
UID:641-1756888200-1756908000@mosmallflows.org
SUMMARY:Basic Soils & How to Read a Soils Report
DESCRIPTION:Location: Cape Girardeau – Cape Girardeau Health Department \nBasic Soils & How to Read a Soils Report\nDate: September 3\, 2025\nHalf-day class: 8:30 AM – 2:00 PM\nDHSS General CEU: 5.0\nSelect: Basic: 5.0\, Advanced: 5.0\, Inspector: 0\, OSE: 5.0\nMember price: $150\nNon-member price: $235 \nPlease contact MSO to register via email or phone: \nPhone: (417) 631-4027\nEmail: contact@mosmallflows.org 
URL:https://mosmallflows.org/event/basic-soils-how-to-read-a-soils-report-2/
LOCATION:Cape Girardeau Health Department\, 1121 Linden St.\, Cape Girardeau\, MO\, 63703\, United States
CATEGORIES:Seminar Classes
END:VEVENT
BEGIN:VEVENT
DTSTART;TZID=UTC:20250815T083000
DTEND;TZID=UTC:20250815T163000
DTSTAMP:20260421T210103
CREATED:20250714T183847Z
LAST-MODIFIED:20250801T162323Z
UID:640-1755246600-1755275400@mosmallflows.org
SUMMARY:Drip Irrigation
DESCRIPTION:Location: Liberty\, Clay County Health Department \nDrip Irrigation\nDate: August 15\, 2025\nFull Day Class: 8:30 AM – 4:30 PM\nDHSS General CEUs: 6\nSelect: Basic: 3.5\, Advanced: 6.0\, Inspectors: 6.0\,\nOnsite Soil Evaluators: 3.5\nDNR Wastewater CEUs: 6.0\nMember Price: $150\nNon-member price: $235
URL:https://mosmallflows.org/event/drip-irrigation/
LOCATION:Clay County Health Department\, 800 Haines\, Liberty\, MO\, 64068\, United States
CATEGORIES:Seminar Classes
END:VEVENT
BEGIN:VEVENT
DTSTART;TZID=UTC:20250814T083000
DTEND;TZID=UTC:20250814T163000
DTSTAMP:20260421T210103
CREATED:20250714T183819Z
LAST-MODIFIED:20250801T152653Z
UID:639-1755160200-1755189000@mosmallflows.org
SUMMARY:Trickling through Media Filters
DESCRIPTION:Location: Liberty\, Clay County Health Department \nTrickling through Media Filters\nDate: August 14\, 2025\nFull Day Class: 8:30 AM – 4:30 PM\nDHSS General CEUs: 6\nSelect: Basic: 0\, Advanced: 6.0\, Inspectors: 4.0\,\nOnsite Soil Evaluators: 0\, and Percolation Testers: 0\nDNR Wastewater CEUs: 6.0\nMember Price: $150\nNon-member price: $235
URL:https://mosmallflows.org/event/trickling-through-media-filters/
LOCATION:Clay County Health Department\, 800 Haines\, Liberty\, MO\, 64068\, United States
CATEGORIES:Seminar Classes
END:VEVENT
BEGIN:VEVENT
DTSTART;TZID=UTC:20250730T083000
DTEND;TZID=UTC:20250730T140000
DTSTAMP:20260421T210103
CREATED:20250714T183034Z
LAST-MODIFIED:20250801T162337Z
UID:638-1753864200-1753884000@mosmallflows.org
SUMMARY:Basic Soils & How to Read a Soils Report
DESCRIPTION:Location: Liberty\, Clay County Health Department \nBasic Soils & How to Read a Soils Report\nDate: July 30\, 2025\nHalf-day class: 8:30 AM – 2:00 PM\nDHSS General CEU: 5.0\nSelect: Basic: 5.0\, Advanced: 5.0\, Inspector: 0\, OSE: 5.0\nMember price: $150\nNon-member price: $235
URL:https://mosmallflows.org/event/basic-soils-how-to-read-a-soils-report/
LOCATION:Clay County Health Department\, 800 Haines\, Liberty\, MO\, 64068\, United States
CATEGORIES:Seminar Classes
END:VEVENT
END:VCALENDAR