BEGIN:VCALENDAR
VERSION:2.0
PRODID:-//Missouri Smallflows - ECPv6.15.20//NONSGML v1.0//EN
CALSCALE:GREGORIAN
METHOD:PUBLISH
X-ORIGINAL-URL:https://mosmallflows.org
X-WR-CALDESC:Events for Missouri Smallflows
REFRESH-INTERVAL;VALUE=DURATION:PT1H
X-Robots-Tag:noindex
X-PUBLISHED-TTL:PT1H
BEGIN:VTIMEZONE
TZID:UTC
BEGIN:STANDARD
TZOFFSETFROM:+0000
TZOFFSETTO:+0000
TZNAME:UTC
DTSTART:20250101T000000
END:STANDARD
END:VTIMEZONE
BEGIN:VEVENT
DTSTART;TZID=UTC:20261020T083000
DTEND;TZID=UTC:20261020T163000
DTSTAMP:20260422T022943
CREATED:20260217T144153Z
LAST-MODIFIED:20260217T144153Z
UID:1103-1792485000-1792513800@mosmallflows.org
SUMMARY:Trickling through Media Filters
DESCRIPTION:Full Day Class: 8:30 AM – 4:30 PM\nDHSS General CEUs: 6\nSelect: Basic: 0\, Advanced: 6\, Inspectors: 5\, Onsite Soil Evaluators: 0\, and Perc Testers: 0\nDNR Wastewater CEUs: 6.0\nMember Price: $150\nNon-member price: $235 \nRegister Now
URL:https://mosmallflows.org/event/trickling-through-media-filters-4/
LOCATION:Cole County Health Department\, 3400 W Truman Blvd.\, Jefferson City\, 65109\, United States
CATEGORIES:Seminar Classes
END:VEVENT
BEGIN:VEVENT
DTSTART;TZID=UTC:20261021T083000
DTEND;TZID=UTC:20261021T163000
DTSTAMP:20260422T022943
CREATED:20260217T144532Z
LAST-MODIFIED:20260217T144532Z
UID:1104-1792571400-1792600200@mosmallflows.org
SUMMARY:Drip Irrigation
DESCRIPTION:Full Day Class: 8:30 AM – 4:30 PM\nDHSS General CEUs: 6.5\nSelect: Basic: 0\, Advanced: 6.5\, Inspectors: 6.25\, Onsite Soil Evaluators: 4\, and Perc Testers: 0\nDNR Wastewater CEUs: 6.5\nMember Price: $150\nNon-member price: $235 \nRegister Now
URL:https://mosmallflows.org/event/drip-irrigation-3/
LOCATION:Cole County Health Department\, 3400 W Truman Blvd.\, Jefferson City\, 65109\, United States
CATEGORIES:Seminar Classes
END:VEVENT
BEGIN:VEVENT
DTSTART;TZID=UTC:20261104T083000
DTEND;TZID=UTC:20261104T163000
DTSTAMP:20260422T022943
CREATED:20260217T144806Z
LAST-MODIFIED:20260217T144806Z
UID:1105-1793781000-1793809800@mosmallflows.org
SUMMARY:Types of Drainfields & Water Management
DESCRIPTION:Full Day Class: 8:30 AM – 4:30 PM\nDHSS General CEUs: 7.5\nSelect: Basic: 5.5\, Advanced: 6\, Inspectors: 0\, Onsite Soil Evaluators: 1\, and Perc Testers: 0\nDNR Wastewater CEUs: 6.5\nMember Price: $150\nNon-member price: $235 \nRegister Now
URL:https://mosmallflows.org/event/types-of-drainfields-water-management-4/
LOCATION:Kearney Winsupply\, 1000 W Innovation Dr\,\, Kearney\, MO\, 64060\, United States
CATEGORIES:Seminar Classes
END:VEVENT
BEGIN:VEVENT
DTSTART;TZID=UTC:20261105T083000
DTEND;TZID=UTC:20261105T163000
DTSTAMP:20260422T022943
CREATED:20260217T144949Z
LAST-MODIFIED:20260217T144949Z
UID:1106-1793867400-1793896200@mosmallflows.org
SUMMARY:Drip Irrigation
DESCRIPTION:Full Day Class: 8:30 AM – 4:30 PM\nDHSS General CEUs: 6.5\nSelect: Basic: 0\, Advanced: 6.5\, Inspectors: 6.25\, Onsite Soil Evaluators: 4\, and Perc Testers: 0\nDNR Wastewater CEUs: 6.5\nMember Price: $150\nNon-member price: $235 \nRegister Now
URL:https://mosmallflows.org/event/drip-irrigation-4/
LOCATION:Kearney Winsupply\, 1000 W Innovation Dr\,\, Kearney\, MO\, 64060\, United States
CATEGORIES:Seminar Classes
END:VEVENT
BEGIN:VEVENT
DTSTART;TZID=UTC:20261210T083000
DTEND;TZID=UTC:20261210T163000
DTSTAMP:20260422T022943
CREATED:20260217T145551Z
LAST-MODIFIED:20260217T145551Z
UID:1107-1796891400-1796920200@mosmallflows.org
SUMMARY:Drip Irrigation
DESCRIPTION:Full Day Class: 8:30 AM – 4:30 PM\nDHSS General CEUs: 6.5\nSelect: Basic: 0\, Advanced: 6.5\, Inspectors: 6.25\, Onsite Soil Evaluators: 4\, and Perc Testers: 0\nDNR Wastewater CEUs: 6.5\nMember Price: $150\nNon-member price: $235 \nRegister Now
URL:https://mosmallflows.org/event/drip-irrigation-5/
LOCATION:Ganey Engineering\, 3405 Old Hwy M\, Imperial\, MO\, 63052\, United States
CATEGORIES:Seminar Classes
END:VEVENT
BEGIN:VEVENT
DTSTART;TZID=UTC:20261211T083000
DTEND;TZID=UTC:20261211T163000
DTSTAMP:20260422T022943
CREATED:20260217T145745Z
LAST-MODIFIED:20260217T145745Z
UID:1108-1796977800-1797006600@mosmallflows.org
SUMMARY:Trickling through Media Filters
DESCRIPTION:Full Day Class: 8:30 AM – 4:30 PM\nDHSS General CEUs: 6\nSelect: Basic: 0\, Advanced: 6\, Inspectors: 5\, Onsite Soil Evaluators: 0\, and Perc Testers: 0\nDNR Wastewater CEUs: 6.0\nMember Price: $150\nNon-member price: $235 \nRegister Now
URL:https://mosmallflows.org/event/trickling-through-media-filters-5/
LOCATION:Ganey Engineering\, 3405 Old Hwy M\, Imperial\, MO\, 63052\, United States
CATEGORIES:Seminar Classes
END:VEVENT
END:VCALENDAR