BEGIN:VCALENDAR
VERSION:2.0
PRODID:-//Missouri Smallflows - ECPv6.15.20//NONSGML v1.0//EN
CALSCALE:GREGORIAN
METHOD:PUBLISH
X-WR-CALNAME:Missouri Smallflows
X-ORIGINAL-URL:https://mosmallflows.org
X-WR-CALDESC:Events for Missouri Smallflows
REFRESH-INTERVAL;VALUE=DURATION:PT1H
X-Robots-Tag:noindex
X-PUBLISHED-TTL:PT1H
BEGIN:VTIMEZONE
TZID:UTC
BEGIN:STANDARD
TZOFFSETFROM:+0000
TZOFFSETTO:+0000
TZNAME:UTC
DTSTART:20250101T000000
END:STANDARD
END:VTIMEZONE
BEGIN:VEVENT
DTSTART;TZID=UTC:20260506T083000
DTEND;TZID=UTC:20260506T163000
DTSTAMP:20260421T142933
CREATED:20251124T222826Z
LAST-MODIFIED:20260216T161537Z
UID:1022-1778056200-1778085000@mosmallflows.org
SUMMARY:Types of Drainfields & Water Management
DESCRIPTION:Full Day Class: 8:30 AM – 4:30 PM\nDHSS General CEUs: 7.5\nSelect: Basic: 5.5\, Advanced: 6\, Inspectors: 0\, Onsite Soil Evaluators: 1\, and Perc Testers: 0\nDNR Wastewater CEUs: 6.5\nMember Price: $150\nNon-member price: $235 \nRegister Now
URL:https://mosmallflows.org/event/types-of-drainfields-water-management-2/
LOCATION:Turkey Creek Wastewater Plant\, 3457 W Eddy Lane\, Joplin\, MO\, 64801\, United States
CATEGORIES:Seminar Classes
END:VEVENT
BEGIN:VEVENT
DTSTART;TZID=UTC:20260507T083000
DTEND;TZID=UTC:20260507T133000
DTSTAMP:20260421T142933
CREATED:20251124T223037Z
LAST-MODIFIED:20260216T163807Z
UID:1023-1778142600-1778160600@mosmallflows.org
SUMMARY:Onsite Pumps\, Panels & Electrical
DESCRIPTION:Half Day Class: 8:30 AM – 1:30 PM\nDHSS General CEUs: 4\nSelect: Basic: 4\, Advanced: 4\, Inspectors: 4\, Onsite Soil Evaluators: 0\, and Perc Testers: 0\nDNR Wastewater CEUs: 4\nMember Price: $150\nNon-member price: $235 \nRegister Now
URL:https://mosmallflows.org/event/onsite-pumps-panels-electrical-4/
LOCATION:Turkey Creek Wastewater Plant\, 3457 W Eddy Lane\, Joplin\, MO\, 64801\, United States
CATEGORIES:Seminar Classes
END:VEVENT
BEGIN:VEVENT
DTSTART;TZID=UTC:20260513T180000
DTEND;TZID=UTC:20260513T190000
DTSTAMP:20260421T142933
CREATED:20260410T213638Z
LAST-MODIFIED:20260410T213709Z
UID:1118-1778695200-1778698800@mosmallflows.org
SUMMARY:Free Business Webinar brought to you by Dig In Digital
DESCRIPTION:Why Your Phone Isn’t Ringing\nand How to Fix It Fast \nIf your phone isn’t ringing like it used to\, there’s a reason\, and it is usually not what you think. In this session\, we will break down the most common causes of low call volume for septic and wastewater businesses and show you how to identify what is holding you back. \nYou will learn how customers are actually finding your business online and what influences their decision to call. We will also walk through a simple\, practical checklist you can use to start generating more calls within days\, not months. \nRegister Here \n \n 
URL:https://mosmallflows.org/event/free-business-webinar-brought-to-you-by-dig-in-digital/
CATEGORIES:Seminar Classes
END:VEVENT
BEGIN:VEVENT
DTSTART;TZID=UTC:20260520T083000
DTEND;TZID=UTC:20260520T163000
DTSTAMP:20260421T142933
CREATED:20251124T223219Z
LAST-MODIFIED:20260304T161655Z
UID:1024-1779265800-1779294600@mosmallflows.org
SUMMARY:Troubleshooting Onsite Systems
DESCRIPTION:Full Day Class: 8:30 AM – 4:30 PM\nDHSS General CEUs: 6.5\nSelect: Basic: 4\, Advanced: 6.5\, Inspectors: 6.5\, Onsite Soil Evaluators: 0\, and Perc Testers: 0\nDNR Wastewater CEUs: 6.5\nMember Price: $150\nNon-member price: $235 \nRegister Now
URL:https://mosmallflows.org/event/troubleshooting-onsite-systems-2/
LOCATION:Ganey Engineering\, 3405 Old Hwy M\, Imperial\, MO\, 63052\, United States
CATEGORIES:Seminar Classes
END:VEVENT
BEGIN:VEVENT
DTSTART;TZID=UTC:20260521T083000
DTEND;TZID=UTC:20260521T133000
DTSTAMP:20260421T142933
CREATED:20251124T223343Z
LAST-MODIFIED:20260216T163743Z
UID:1025-1779352200-1779370200@mosmallflows.org
SUMMARY:Onsite Pumps\, Panels & Electrical
DESCRIPTION:Half Day Class: 8:30 AM – 1:30 PM\nDHSS General CEUs: 4\nSelect: Basic: 4\, Advanced: 4\, Inspectors: 4\, Onsite Soil Evaluators: 0\, and Perc Testers: 0\nDNR Wastewater CEUs: 4\nMember Price: $150\nNon-member price: $235 \nRegister Now
URL:https://mosmallflows.org/event/onsite-pumps-panels-electrical-5/
LOCATION:Ganey Engineering\, 3405 Old Hwy M\, Imperial\, MO\, 63052\, United States
CATEGORIES:Seminar Classes
END:VEVENT
END:VCALENDAR