BEGIN:VCALENDAR
VERSION:2.0
PRODID:-//Missouri Smallflows - ECPv6.15.20//NONSGML v1.0//EN
CALSCALE:GREGORIAN
METHOD:PUBLISH
X-WR-CALNAME:Missouri Smallflows
X-ORIGINAL-URL:https://mosmallflows.org
X-WR-CALDESC:Events for Missouri Smallflows
REFRESH-INTERVAL;VALUE=DURATION:PT1H
X-Robots-Tag:noindex
X-PUBLISHED-TTL:PT1H
BEGIN:VTIMEZONE
TZID:UTC
BEGIN:STANDARD
TZOFFSETFROM:+0000
TZOFFSETTO:+0000
TZNAME:UTC
DTSTART:20250101T000000
END:STANDARD
END:VTIMEZONE
BEGIN:VEVENT
DTSTART;TZID=UTC:20260609T083000
DTEND;TZID=UTC:20260609T163000
DTSTAMP:20260421T160719
CREATED:20260216T154357Z
LAST-MODIFIED:20260304T161446Z
UID:1085-1780993800-1781022600@mosmallflows.org
SUMMARY:Troubleshooting Onsite Systems
DESCRIPTION:Full Day Class: 8:30 AM – 4:30 PM\nDHSS General CEUs: 6.5\nSelect: Basic: 4\, Advanced: 6.5\, Inspectors: 6.5\, Onsite Soil Evaluators: 0\, and Perc Testers: 0\nDNR Wastewater CEUs: 6.5\nMember Price: $150\nNon-member price: $235 \nRegister Now
URL:https://mosmallflows.org/event/troubleshooting-onsite-systems-3/
LOCATION:Cole County Health Department\, 3400 W Truman Blvd.\, Jefferson City\, 65109\, United States
CATEGORIES:Seminar Classes
END:VEVENT
BEGIN:VEVENT
DTSTART;TZID=UTC:20260610T083000
DTEND;TZID=UTC:20260610T163000
DTSTAMP:20260421T160719
CREATED:20260216T155916Z
LAST-MODIFIED:20260216T155916Z
UID:1086-1781080200-1781109000@mosmallflows.org
SUMMARY:Inspecting Tanks\, Lagoons & LPP Systems
DESCRIPTION:Full Day Class: 8:30 AM – 4:30 PM\nDHSS General CEUs: 5\nSelect: Basic: 0\, Advanced: 0\, Inspectors: 5\, Onsite Soil Evaluators: 0\, and Perc Testers: 0\nDNR Wastewater CEUs: 5.5\nMember Price: $150\nNon-member price: $235 \nRegister Now
URL:https://mosmallflows.org/event/inspecting-tanks-lagoons-lpp-systems/
LOCATION:Cole County Health Department\, 3400 W Truman Blvd.\, Jefferson City\, 65109\, United States
CATEGORIES:Seminar Classes
END:VEVENT
BEGIN:VEVENT
DTSTART;TZID=UTC:20260625T083000
DTEND;TZID=UTC:20260625T133000
DTSTAMP:20260421T160719
CREATED:20260216T163108Z
LAST-MODIFIED:20260216T163710Z
UID:1088-1782376200-1782394200@mosmallflows.org
SUMMARY:Wastewater Pathogens
DESCRIPTION:Half Day Class: 8:30 AM – 1:30 PM\nDHSS General CEUs: 4\nSelect: Basic: 1\, Advanced: 1\, Inspectors: 1\, Onsite Soil Evaluators: 0\, and Perc Testers: 0\nDNR Wastewater CEUs: 4.0\nMember Price: $150\nNon-member price: $235 \nRegister Now
URL:https://mosmallflows.org/event/wastewater-pathogens-2/
LOCATION:Springfield DNR\, 2040 W Woodland\, Springfield\, MO\, 65807\, United States
CATEGORIES:Seminar Classes
END:VEVENT
BEGIN:VEVENT
DTSTART;TZID=UTC:20260626T083000
DTEND;TZID=UTC:20260626T140000
DTSTAMP:20260421T160719
CREATED:20260216T165029Z
LAST-MODIFIED:20260216T165056Z
UID:1090-1782462600-1782482400@mosmallflows.org
SUMMARY:Basic Soils & How to Read a Soils Report
DESCRIPTION:Half Day Class: 8:30 AM – 2:00 PM\nDHSS General CEUs: 5\nSelect: Basic: 5\, Advanced: 5\, Inspectors: 0\, Onsite Soil Evaluators: 5\, and Perc Testers: 2\nDNR Wastewater CEU’s:0\nMember Price: $150\nNon-member price: $235 \nRegister Now
URL:https://mosmallflows.org/event/basic-soils-how-to-read-a-soils-report-5/
LOCATION:Springfield DNR\, 2040 W Woodland\, Springfield\, MO\, 65807\, United States
CATEGORIES:Seminar Classes
END:VEVENT
END:VCALENDAR